BEGIN:VCALENDAR
VERSION:2.0
PRODID:-//Preuniversitarios de Chile - ECPv6.15.13//NONSGML v1.0//EN
CALSCALE:GREGORIAN
METHOD:PUBLISH
X-WR-CALNAME:Preuniversitarios de Chile
X-ORIGINAL-URL:https://preus.cl
X-WR-CALDESC:Events for Preuniversitarios de Chile
REFRESH-INTERVAL;VALUE=DURATION:PT1H
X-Robots-Tag:noindex
X-PUBLISHED-TTL:PT1H
BEGIN:VTIMEZONE
TZID:UTC
BEGIN:STANDARD
TZOFFSETFROM:+0000
TZOFFSETTO:+0000
TZNAME:UTC
DTSTART:20200101T000000
END:STANDARD
END:VTIMEZONE
BEGIN:VTIMEZONE
TZID:America/Santiago
BEGIN:STANDARD
TZOFFSETFROM:-0300
TZOFFSETTO:-0400
TZNAME:-04
DTSTART:20200405T030000
END:STANDARD
BEGIN:DAYLIGHT
TZOFFSETFROM:-0400
TZOFFSETTO:-0300
TZNAME:-03
DTSTART:20200906T040000
END:DAYLIGHT
BEGIN:STANDARD
TZOFFSETFROM:-0300
TZOFFSETTO:-0400
TZNAME:-04
DTSTART:20210404T030000
END:STANDARD
BEGIN:DAYLIGHT
TZOFFSETFROM:-0400
TZOFFSETTO:-0300
TZNAME:-03
DTSTART:20210905T040000
END:DAYLIGHT
BEGIN:STANDARD
TZOFFSETFROM:-0300
TZOFFSETTO:-0400
TZNAME:-04
DTSTART:20220403T030000
END:STANDARD
BEGIN:DAYLIGHT
TZOFFSETFROM:-0400
TZOFFSETTO:-0300
TZNAME:-03
DTSTART:20220911T040000
END:DAYLIGHT
END:VTIMEZONE
BEGIN:VEVENT
DTSTART;VALUE=DATE:20220203
DTEND;VALUE=DATE:20220204
DTSTAMP:20260421T041710
CREATED:20211017T195631Z
LAST-MODIFIED:20211017T200923Z
UID:1247-1643846400-1643932799@preus.cl
SUMMARY:Cierre período de Retracto
DESCRIPTION:
URL:https://preus.cl/event/cierre-periodo-de-retracto/
CATEGORIES:PTU 2021 - Proceso de Admisión 2022
END:VEVENT
BEGIN:VEVENT
DTSTART;VALUE=DATE:20220203
DTEND;VALUE=DATE:20220204
DTSTAMP:20260421T041710
CREATED:20211017T195614Z
LAST-MODIFIED:20211017T200918Z
UID:1245-1643846400-1643932799@preus.cl
SUMMARY:Proceso de Matrícula: Cierre de segunda etapa
DESCRIPTION:
URL:https://preus.cl/event/proceso-de-matricula-cierre-de-segunda-etapa/
CATEGORIES:PTU 2021 - Proceso de Admisión 2022
END:VEVENT
BEGIN:VEVENT
DTSTART;VALUE=DATE:20220128
DTEND;VALUE=DATE:20220129
DTSTAMP:20260421T041710
CREATED:20211017T195548Z
LAST-MODIFIED:20211017T200915Z
UID:1243-1643328000-1643414399@preus.cl
SUMMARY:Proceso de Matrícula: Inicio de segunda etapa
DESCRIPTION:
URL:https://preus.cl/event/proceso-de-matricula-inicio-de-segunda-etapa/
CATEGORIES:PTU 2021 - Proceso de Admisión 2022
END:VEVENT
BEGIN:VEVENT
DTSTART;VALUE=DATE:20220127
DTEND;VALUE=DATE:20220128
DTSTAMP:20260421T041710
CREATED:20211017T195528Z
LAST-MODIFIED:20211017T200911Z
UID:1241-1643241600-1643327999@preus.cl
SUMMARY:Proceso de Matrícula: Cierre de primera etapa
DESCRIPTION:
URL:https://preus.cl/event/proceso-de-matricula-cierre-de-primera-etapa/
CATEGORIES:PTU 2021 - Proceso de Admisión 2022
END:VEVENT
BEGIN:VEVENT
DTSTART;TZID=UTC:20220125T090000
DTEND;TZID=UTC:20220125T170000
DTSTAMP:20260421T041710
CREATED:20211017T195413Z
LAST-MODIFIED:20211017T200907Z
UID:1235-1643101200-1643130000@preus.cl
SUMMARY:Verificación de Resultados de Selección
DESCRIPTION:
URL:https://preus.cl/event/verificacion-de-resultados-de-seleccion-2/
CATEGORIES:PTU 2021 - Proceso de Admisión 2022
END:VEVENT
BEGIN:VEVENT
DTSTART;VALUE=DATE:20220125
DTEND;VALUE=DATE:20220126
DTSTAMP:20260421T041710
CREATED:20211017T195506Z
LAST-MODIFIED:20211017T200903Z
UID:1239-1643068800-1643155199@preus.cl
SUMMARY:Inicio período de Retracto
DESCRIPTION:
URL:https://preus.cl/event/inicio-periodo-de-retracto/
CATEGORIES:PTU 2021 - Proceso de Admisión 2022
END:VEVENT
BEGIN:VEVENT
DTSTART;VALUE=DATE:20220125
DTEND;VALUE=DATE:20220126
DTSTAMP:20260421T041710
CREATED:20211017T195440Z
LAST-MODIFIED:20211017T200858Z
UID:1237-1643068800-1643155199@preus.cl
SUMMARY:Proceso de Matrícula: Inicio de primera etapa
DESCRIPTION:
URL:https://preus.cl/event/proceso-de-matricula-inicio-de-primera-etapa/
CATEGORIES:PTU 2021 - Proceso de Admisión 2022
END:VEVENT
BEGIN:VEVENT
DTSTART;TZID=UTC:20220124T120000
DTEND;TZID=UTC:20220124T170000
DTSTAMP:20260421T041710
CREATED:20211015T013117Z
LAST-MODIFIED:20211017T200854Z
UID:1233-1643025600-1643043600@preus.cl
SUMMARY:Verificación de Resultados de Selección
DESCRIPTION:
URL:https://preus.cl/event/verificacion-de-resultados-de-seleccion/
CATEGORIES:PTU 2021 - Proceso de Admisión 2022
END:VEVENT
BEGIN:VEVENT
DTSTART;VALUE=DATE:20220124
DTEND;VALUE=DATE:20220125
DTSTAMP:20260421T041710
CREATED:20211015T013037Z
LAST-MODIFIED:20211017T200848Z
UID:1231-1642982400-1643068799@preus.cl
SUMMARY:Resultados del Proceso de Selección (12:00 hrs)
DESCRIPTION:
URL:https://preus.cl/event/resultados-del-proceso-de-seleccion-1200-hrs/
CATEGORIES:PTU 2021 - Proceso de Admisión 2022
END:VEVENT
BEGIN:VEVENT
DTSTART;VALUE=DATE:20220114
DTEND;VALUE=DATE:20220115
DTSTAMP:20260421T041710
CREATED:20211015T012955Z
LAST-MODIFIED:20211017T200844Z
UID:1229-1642118400-1642204799@preus.cl
SUMMARY:Fin Etapa de Postulaciones (13:00 hrs)
DESCRIPTION:
URL:https://preus.cl/event/fin-etapa-de-postulaciones-1300-hrs/
CATEGORIES:PTU 2021 - Proceso de Admisión 2022
END:VEVENT
BEGIN:VEVENT
DTSTART;VALUE=DATE:20220111
DTEND;VALUE=DATE:20220112
DTSTAMP:20260421T041710
CREATED:20211015T012911Z
LAST-MODIFIED:20211017T200840Z
UID:1227-1641859200-1641945599@preus.cl
SUMMARY:Verificación de Puntajes
DESCRIPTION:
URL:https://preus.cl/event/verificacion-de-puntajes/
CATEGORIES:PTU 2021 - Proceso de Admisión 2022
END:VEVENT
BEGIN:VEVENT
DTSTART;VALUE=DATE:20220111
DTEND;VALUE=DATE:20220112
DTSTAMP:20260421T041710
CREATED:20211015T012844Z
LAST-MODIFIED:20211017T200834Z
UID:1225-1641859200-1641945599@preus.cl
SUMMARY:Inicio Etapa de Postulaciones
DESCRIPTION:
URL:https://preus.cl/event/inicio-etapa-de-postulaciones/
CATEGORIES:PTU 2021 - Proceso de Admisión 2022
END:VEVENT
BEGIN:VEVENT
DTSTART;VALUE=DATE:20220111
DTEND;VALUE=DATE:20220112
DTSTAMP:20260421T041710
CREATED:20211015T012804Z
LAST-MODIFIED:20211017T200830Z
UID:1223-1641859200-1641945599@preus.cl
SUMMARY:Resultados de Puntajes Prueba de Transición
DESCRIPTION:
URL:https://preus.cl/event/resultados-de-puntajes-prueba-de-transicion/
CATEGORIES:PTU 2021 - Proceso de Admisión 2022
END:VEVENT
BEGIN:VEVENT
DTSTART;VALUE=DATE:20211215
DTEND;VALUE=DATE:20211216
DTSTAMP:20260421T041710
CREATED:20211015T012730Z
LAST-MODIFIED:20211017T200826Z
UID:1221-1639526400-1639612799@preus.cl
SUMMARY:Simulador Puntaje Ranking - Simulador Asistente de Postulación
DESCRIPTION:
URL:https://preus.cl/event/simulador-puntaje-ranking-simulador-asistente-de-postulacion/
CATEGORIES:PTU 2021 - Proceso de Admisión 2022
END:VEVENT
BEGIN:VEVENT
DTSTART;TZID=UTC:20211210T150000
DTEND;TZID=UTC:20211210T173000
DTSTAMP:20260421T041710
CREATED:20211015T012654Z
LAST-MODIFIED:20211017T200821Z
UID:1219-1639148400-1639157400@preus.cl
SUMMARY:Rendición Prueba de Historia y Ciencias Sociales - Grupo 2
DESCRIPTION:
URL:https://preus.cl/event/rendicion-prueba-de-historia-y-ciencias-sociales-grupo-2/
CATEGORIES:PTU 2021 - Proceso de Admisión 2022
END:VEVENT
BEGIN:VEVENT
DTSTART;TZID=UTC:20211210T100000
DTEND;TZID=UTC:20211210T123000
DTSTAMP:20260421T041710
CREATED:20211015T012603Z
LAST-MODIFIED:20211017T200816Z
UID:1217-1639130400-1639139400@preus.cl
SUMMARY:Rendición Prueba de Matemática - Grupo 2
DESCRIPTION:
URL:https://preus.cl/event/rendicion-prueba-de-matematica-grupo-2/
CATEGORIES:PTU 2021 - Proceso de Admisión 2022
END:VEVENT
BEGIN:VEVENT
DTSTART;TZID=UTC:20211209T150000
DTEND;TZID=UTC:20211209T173000
DTSTAMP:20260421T041710
CREATED:20211015T012522Z
LAST-MODIFIED:20211017T200812Z
UID:1215-1639062000-1639071000@preus.cl
SUMMARY:Rendición Prueba de Ciencias - Grupo 2
DESCRIPTION:
URL:https://preus.cl/event/rendicion-prueba-de-ciencias-grupo-2/
CATEGORIES:PTU 2021 - Proceso de Admisión 2022
END:VEVENT
BEGIN:VEVENT
DTSTART;TZID=UTC:20211209T100000
DTEND;TZID=UTC:20211209T123000
DTSTAMP:20260421T041710
CREATED:20211015T012126Z
LAST-MODIFIED:20211017T200809Z
UID:1213-1639044000-1639053000@preus.cl
SUMMARY:Rendición Prueba de Comprensión Lectora - Grupo 2
DESCRIPTION:
URL:https://preus.cl/event/rendicion-prueba-de-comprension-lectora-grupo-2/
CATEGORIES:PTU 2021 - Proceso de Admisión 2022
END:VEVENT
BEGIN:VEVENT
DTSTART;TZID=UTC:20211207T150000
DTEND;TZID=UTC:20211207T173000
DTSTAMP:20260421T041710
CREATED:20211015T012006Z
LAST-MODIFIED:20211017T200806Z
UID:1211-1638889200-1638898200@preus.cl
SUMMARY:Rendición Prueba de Historia y Ciencias Sociales - Grupo 1
DESCRIPTION:
URL:https://preus.cl/event/rendicion-prueba-de-historia-y-ciencias-sociales-grupo-1/
CATEGORIES:PTU 2021 - Proceso de Admisión 2022
END:VEVENT
BEGIN:VEVENT
DTSTART;TZID=UTC:20211207T100000
DTEND;TZID=UTC:20211207T123000
DTSTAMP:20260421T041710
CREATED:20211015T011825Z
LAST-MODIFIED:20211017T200802Z
UID:1209-1638871200-1638880200@preus.cl
SUMMARY:Rendición Prueba de Matemática - Grupo 1
DESCRIPTION:
URL:https://preus.cl/event/rendicion-prueba-de-matematica-grupo-1/
CATEGORIES:PTU 2021 - Proceso de Admisión 2022
END:VEVENT
BEGIN:VEVENT
DTSTART;TZID=UTC:20211206T150000
DTEND;TZID=UTC:20211206T173000
DTSTAMP:20260421T041710
CREATED:20211015T011730Z
LAST-MODIFIED:20211017T200755Z
UID:1207-1638802800-1638811800@preus.cl
SUMMARY:Rendición Prueba de Ciencias - Grupo 1
DESCRIPTION:
URL:https://preus.cl/event/rendicion-prueba-de-ciencias-grupo-1/
CATEGORIES:PTU 2021 - Proceso de Admisión 2022
END:VEVENT
BEGIN:VEVENT
DTSTART;TZID=UTC:20211206T100000
DTEND;TZID=UTC:20211206T123000
DTSTAMP:20260421T041710
CREATED:20211015T011501Z
LAST-MODIFIED:20211017T200750Z
UID:1205-1638784800-1638793800@preus.cl
SUMMARY:Rendición Prueba de Comprensión Lectora - Grupo 1
DESCRIPTION:
URL:https://preus.cl/event/rendicion-prueba-de-comprension-lectora-grupo-1/
CATEGORIES:PTU 2021 - Proceso de Admisión 2022
END:VEVENT
BEGIN:VEVENT
DTSTART;VALUE=DATE:20211125
DTEND;VALUE=DATE:20211126
DTSTAMP:20260421T041710
CREATED:20211015T011253Z
LAST-MODIFIED:20211017T200745Z
UID:1203-1637798400-1637884799@preus.cl
SUMMARY:Publicación: Servicios y Beneficios Universitarios
DESCRIPTION:
URL:https://preus.cl/event/publicacion-servicios-y-beneficios-universitarios/
CATEGORIES:PTU 2021 - Proceso de Admisión 2022
END:VEVENT
BEGIN:VEVENT
DTSTART;VALUE=DATE:20211028
DTEND;VALUE=DATE:20211029
DTSTAMP:20260421T041710
CREATED:20211015T010704Z
LAST-MODIFIED:20211017T200739Z
UID:1200-1635379200-1635465599@preus.cl
SUMMARY:Publicación: Nómina Oficial de Carreras PACE - Oferta centralizada Proceso de Admisión 2022
DESCRIPTION:
URL:https://preus.cl/event/publicacion-nomina-oficial-de-carreras-pace-oferta-centralizada-proceso-de-admision-2022/
CATEGORIES:PTU 2021 - Proceso de Admisión 2022
END:VEVENT
END:VCALENDAR